BEGIN:VCALENDAR
VERSION:2.0
PRODID:-//ESG Erfurt - ECPv4.9.7//NONSGML v1.0//EN
CALSCALE:GREGORIAN
METHOD:PUBLISH
X-WR-CALNAME:ESG Erfurt
X-ORIGINAL-URL:https://esg-erfurt.de
X-WR-CALDESC:Veranstaltungen im ESG Erfurt
BEGIN:VTIMEZONE
TZID:"Europe/Berlin"
BEGIN:DAYLIGHT
TZOFFSETFROM:+0100
TZOFFSETTO:+0200
TZNAME:CEST
DTSTART:20260329T010000
END:DAYLIGHT
BEGIN:STANDARD
TZOFFSETFROM:+0200
TZOFFSETTO:+0100
TZNAME:CET
DTSTART:20261025T010000
END:STANDARD
END:VTIMEZONE
BEGIN:VEVENT
DTSTART;VALUE=DATE:20260519
DTEND;VALUE=DATE:20260520
DTSTAMP:20260421T150910
CREATED:20260319T124347Z
LAST-MODIFIED:20260319T124347Z
UID:1596-1779148800-1779235199@esg-erfurt.de
SUMMARY:Wortspiele im Paradies
DESCRIPTION:Eine der be- und\nverkanntesten biblischen Geschichten: 1. Mose 3 |\nMit Pfarrerin Ruth-Elisabeth Schlemmer \nteilen teilen twittern E-Mail 
URL:https://esg-erfurt.de/veranstaltung/wortspiele-im-paradies/
LOCATION:ESG Erfurt\, Allerheiligenstraße 15\, Erfurt\, 99084
END:VEVENT
END:VCALENDAR