BEGIN:VCALENDAR
VERSION:2.0
PRODID:-//ESG Erfurt - ECPv4.9.7//NONSGML v1.0//EN
CALSCALE:GREGORIAN
METHOD:PUBLISH
X-WR-CALNAME:ESG Erfurt
X-ORIGINAL-URL:https://esg-erfurt.de
X-WR-CALDESC:Veranstaltungen im ESG Erfurt
BEGIN:VTIMEZONE
TZID:"Europe/Berlin"
BEGIN:DAYLIGHT
TZOFFSETFROM:+0100
TZOFFSETTO:+0200
TZNAME:CEST
DTSTART:20230326T010000
END:DAYLIGHT
BEGIN:STANDARD
TZOFFSETFROM:+0200
TZOFFSETTO:+0100
TZNAME:CET
DTSTART:20231029T010000
END:STANDARD
END:VTIMEZONE
BEGIN:VEVENT
DTSTART;TZID="Europe/Berlin":20230623T190000
DTEND;TZID="Europe/Berlin":20230623T223000
DTSTAMP:20260421T084451
CREATED:20230320T080229Z
LAST-MODIFIED:20230320T080229Z
UID:1234-1687546800-1687559400@esg-erfurt.de
SUMMARY:Wie Liebe gelingt.
DESCRIPTION:Lucie Fincke\, Psychotherapeutin\, beantwortet Fragen zu Liebe und Partnerschaft. \nAb 19.00 Uhr in der ESG \nteilen teilen twittern E-Mail 
URL:https://esg-erfurt.de/veranstaltung/wie-liebe-gelingt/
LOCATION:ESG Erfurt\, Allerheiligenstraße 15\, Erfurt\, 99084
END:VEVENT
END:VCALENDAR