BEGIN:VCALENDAR
VERSION:2.0
PRODID:-//ESG Erfurt - ECPv4.9.7//NONSGML v1.0//EN
CALSCALE:GREGORIAN
METHOD:PUBLISH
X-WR-CALNAME:ESG Erfurt
X-ORIGINAL-URL:https://esg-erfurt.de
X-WR-CALDESC:Veranstaltungen im ESG Erfurt
BEGIN:VTIMEZONE
TZID:"Europe/Berlin"
BEGIN:DAYLIGHT
TZOFFSETFROM:+0100
TZOFFSETTO:+0200
TZNAME:CEST
DTSTART:20210328T010000
END:DAYLIGHT
BEGIN:STANDARD
TZOFFSETFROM:+0200
TZOFFSETTO:+0100
TZNAME:CET
DTSTART:20211031T010000
END:STANDARD
END:VTIMEZONE
BEGIN:VEVENT
DTSTART;TZID="Europe/Berlin":20211214T190000
DTEND;TZID="Europe/Berlin":20211214T230000
DTSTAMP:20260424T102632
CREATED:20210914T075817Z
LAST-MODIFIED:20210916T064306Z
UID:1056-1639508400-1639522800@esg-erfurt.de
SUMMARY:„Verstehst Du auch\, was Du liest?“
DESCRIPTION:„Verstehst Du auch\, was Du liest?“ (Apg 8\,30)\nWie lesen und verstehen wir die Bibel? \nMit Pfr’in Dr Susanne Ehrhard-Rein \nAb 19.00 Uhr gemeinsames Abendessen\,\ndann etwa 19.45 Uhr kurze Andacht ab ca. 20.15 das genannte Thema.\nEnde des Abends ist offen. \nteilen teilen twittern E-Mail 
URL:https://esg-erfurt.de/veranstaltung/verstehst-du-auch-was-du-liest/
LOCATION:ESG Erfurt\, Allerheiligenstraße 15\, Erfurt\, 99084
END:VEVENT
END:VCALENDAR