BEGIN:VCALENDAR
VERSION:2.0
PRODID:-//ESG Erfurt - ECPv4.9.7//NONSGML v1.0//EN
CALSCALE:GREGORIAN
METHOD:PUBLISH
X-WR-CALNAME:ESG Erfurt
X-ORIGINAL-URL:https://esg-erfurt.de
X-WR-CALDESC:Veranstaltungen im ESG Erfurt
BEGIN:VTIMEZONE
TZID:"Europe/Berlin"
BEGIN:DAYLIGHT
TZOFFSETFROM:+0100
TZOFFSETTO:+0200
TZNAME:CEST
DTSTART:20240331T010000
END:DAYLIGHT
BEGIN:STANDARD
TZOFFSETFROM:+0200
TZOFFSETTO:+0100
TZNAME:CET
DTSTART:20241027T010000
END:STANDARD
END:VTIMEZONE
BEGIN:VEVENT
DTSTART;TZID="Europe/Berlin":20241015T080000
DTEND;TZID="Europe/Berlin":20241015T220000
DTSTAMP:20260424T115140
CREATED:20241014T080533Z
LAST-MODIFIED:20241014T080533Z
UID:1397-1728979200-1729029600@esg-erfurt.de
SUMMARY:Verloren und gefunden
DESCRIPTION:Ökumenischer Gottesdienst zum Semesteranfang in der Michaeliskirche. Anschl. gemeinsames Abendessen in der ESG \nteilen teilen twittern E-Mail 
URL:https://esg-erfurt.de/veranstaltung/verloren-und-gefunden/
LOCATION:Michaeliskirche\, Michaelisstraße 10\, Erfurt\, 99084
END:VEVENT
END:VCALENDAR