BEGIN:VCALENDAR
VERSION:2.0
PRODID:-//ESG Erfurt - ECPv4.9.7//NONSGML v1.0//EN
CALSCALE:GREGORIAN
METHOD:PUBLISH
X-WR-CALNAME:ESG Erfurt
X-ORIGINAL-URL:https://esg-erfurt.de
X-WR-CALDESC:Veranstaltungen im ESG Erfurt
BEGIN:VTIMEZONE
TZID:"Europe/Berlin"
BEGIN:DAYLIGHT
TZOFFSETFROM:+0100
TZOFFSETTO:+0200
TZNAME:CEST
DTSTART:20230326T010000
END:DAYLIGHT
BEGIN:STANDARD
TZOFFSETFROM:+0200
TZOFFSETTO:+0100
TZNAME:CET
DTSTART:20231029T010000
END:STANDARD
END:VTIMEZONE
BEGIN:VEVENT
DTSTART;TZID="Europe/Berlin":20231024T190000
DTEND;TZID="Europe/Berlin":20231024T220000
DTSTAMP:20260425T154355
CREATED:20230926T072700Z
LAST-MODIFIED:20231010T135617Z
UID:1266-1698174000-1698184800@esg-erfurt.de
SUMMARY:ESG und Du - Speeddating am Lagerfeuer.
DESCRIPTION:Wir beginnen gegen 19.00 Uhr in der ESG\, Allerheiligenstrasse 15\, mit einem gemeinsamen Abendessen. Anschließend geht’s in den Garten. \nWir freuen uns über neue und bekannte Gesichter. Lerne die ESG kennen: Wer sind wir? Was machen wir? Wie kann ich dabei sein? \nteilen teilen twittern E-Mail 
URL:https://esg-erfurt.de/veranstaltung/speeddating-am-lagerfeuer/
LOCATION:ESG Erfurt\, Allerheiligenstraße 15\, Erfurt\, 99084
END:VEVENT
END:VCALENDAR