BEGIN:VCALENDAR
VERSION:2.0
PRODID:-//ESG Erfurt - ECPv4.9.7//NONSGML v1.0//EN
CALSCALE:GREGORIAN
METHOD:PUBLISH
X-WR-CALNAME:ESG Erfurt
X-ORIGINAL-URL:https://esg-erfurt.de
X-WR-CALDESC:Veranstaltungen im ESG Erfurt
BEGIN:VTIMEZONE
TZID:"Europe/Berlin"
BEGIN:DAYLIGHT
TZOFFSETFROM:+0100
TZOFFSETTO:+0200
TZNAME:CEST
DTSTART:20220327T010000
END:DAYLIGHT
BEGIN:STANDARD
TZOFFSETFROM:+0200
TZOFFSETTO:+0100
TZNAME:CET
DTSTART:20221030T010000
END:STANDARD
END:VTIMEZONE
BEGIN:VEVENT
DTSTART;TZID="Europe/Berlin":20221108T190000
DTEND;TZID="Europe/Berlin":20221108T190000
DTSTAMP:20260424T160557
CREATED:20220826T082604Z
LAST-MODIFIED:20220826T082604Z
UID:1170-1667934000-1667934000@esg-erfurt.de
SUMMARY:So langweilig wie es klingt? Als StudentIn in kirchenleitenden Gremien.
DESCRIPTION:Julia Braband\, Vikarin in Erfurt \nWir beginnen gegen 19.00 Uhr in der ESG\, Allerheiligenstrasse 15\, mit einem gemeinsamen Abendessen. Ab etwa 20.15 Uhr folgt das Thema. \nteilen teilen twittern E-Mail 
URL:https://esg-erfurt.de/veranstaltung/so-langweilig-wie-es-klingt-als-studentin-in-kirchenleitenden-gremien/
LOCATION:ESG Erfurt\, Allerheiligenstraße 15\, Erfurt\, 99084
END:VEVENT
END:VCALENDAR