BEGIN:VCALENDAR
VERSION:2.0
PRODID:-//ESG Erfurt - ECPv4.9.7//NONSGML v1.0//EN
CALSCALE:GREGORIAN
METHOD:PUBLISH
X-WR-CALNAME:ESG Erfurt
X-ORIGINAL-URL:https://esg-erfurt.de
X-WR-CALDESC:Veranstaltungen im ESG Erfurt
BEGIN:VTIMEZONE
TZID:"Europe/Berlin"
BEGIN:DAYLIGHT
TZOFFSETFROM:+0100
TZOFFSETTO:+0200
TZNAME:CEST
DTSTART:20240331T010000
END:DAYLIGHT
BEGIN:STANDARD
TZOFFSETFROM:+0200
TZOFFSETTO:+0100
TZNAME:CET
DTSTART:20241027T010000
END:STANDARD
END:VTIMEZONE
BEGIN:VEVENT
DTSTART;TZID="Europe/Berlin":20240625T190000
DTEND;TZID="Europe/Berlin":20240625T220000
DTSTAMP:20260425T152554
CREATED:20240320T092308Z
LAST-MODIFIED:20240320T092308Z
UID:1349-1719342000-1719352800@esg-erfurt.de
SUMMARY:Rückblick\, Ausblick\, MAK-Wahl
DESCRIPTION:teilen teilen twittern E-Mail 
URL:https://esg-erfurt.de/veranstaltung/rueckblick-ausblick-mak-wahl-6/
LOCATION:ESG Erfurt\, Allerheiligenstraße 15\, Erfurt\, 99084
END:VEVENT
END:VCALENDAR