BEGIN:VCALENDAR
VERSION:2.0
PRODID:-//ESG Erfurt - ECPv4.9.7//NONSGML v1.0//EN
CALSCALE:GREGORIAN
METHOD:PUBLISH
X-WR-CALNAME:ESG Erfurt
X-ORIGINAL-URL:https://esg-erfurt.de
X-WR-CALDESC:Veranstaltungen im ESG Erfurt
BEGIN:VTIMEZONE
TZID:"Europe/Berlin"
BEGIN:DAYLIGHT
TZOFFSETFROM:+0100
TZOFFSETTO:+0200
TZNAME:CEST
DTSTART:20220327T010000
END:DAYLIGHT
BEGIN:STANDARD
TZOFFSETFROM:+0200
TZOFFSETTO:+0100
TZNAME:CET
DTSTART:20221030T010000
END:STANDARD
END:VTIMEZONE
BEGIN:VEVENT
DTSTART;TZID="Europe/Berlin":20220202T190000
DTEND;TZID="Europe/Berlin":20220202T203000
DTSTAMP:20260424T185805
CREATED:20210914T080307Z
LAST-MODIFIED:20210914T080307Z
UID:1062-1643828400-1643833800@esg-erfurt.de
SUMMARY:Ökumenischer Semesterabschlussgottesdienst
DESCRIPTION:19. 00 Uhr in der Michaeliskirche.\nAnschließend gemeinsames Abendessen in der ESG \nteilen teilen twittern E-Mail 
URL:https://esg-erfurt.de/veranstaltung/oekumenischer-semesterabschlussgottesdienst/
LOCATION:Michaeliskirche\, Michaelisstraße 10\, Erfurt\, 99084
END:VEVENT
END:VCALENDAR