BEGIN:VCALENDAR
VERSION:2.0
PRODID:-//ESG Erfurt - ECPv4.9.7//NONSGML v1.0//EN
CALSCALE:GREGORIAN
METHOD:PUBLISH
X-WR-CALNAME:ESG Erfurt
X-ORIGINAL-URL:https://esg-erfurt.de
X-WR-CALDESC:Veranstaltungen im ESG Erfurt
BEGIN:VTIMEZONE
TZID:"Europe/Berlin"
BEGIN:DAYLIGHT
TZOFFSETFROM:+0100
TZOFFSETTO:+0200
TZNAME:CEST
DTSTART:20250330T010000
END:DAYLIGHT
BEGIN:STANDARD
TZOFFSETFROM:+0200
TZOFFSETTO:+0100
TZNAME:CET
DTSTART:20251026T010000
END:STANDARD
END:VTIMEZONE
BEGIN:VEVENT
DTSTART;TZID="Europe/Berlin":20250625T190000
DTEND;TZID="Europe/Berlin":20250625T190000
DTSTAMP:20260421T092224
CREATED:20250408T103237Z
LAST-MODIFIED:20250408T103237Z
UID:1500-1750878000-1750878000@esg-erfurt.de
SUMMARY:Ökumenischer Semesterabschlussgottesdienst
DESCRIPTION:19:00 Uhr in der Brunnenkirche. Anschließend gemeinsames Abendessen in der KSG \nteilen teilen twittern E-Mail 
URL:https://esg-erfurt.de/veranstaltung/oekumenischer-semesterabschlussgottesdienst-7/
END:VEVENT
END:VCALENDAR