BEGIN:VCALENDAR
VERSION:2.0
PRODID:-//ESG Erfurt - ECPv4.9.7//NONSGML v1.0//EN
CALSCALE:GREGORIAN
METHOD:PUBLISH
X-WR-CALNAME:ESG Erfurt
X-ORIGINAL-URL:https://esg-erfurt.de
X-WR-CALDESC:Veranstaltungen im ESG Erfurt
BEGIN:VTIMEZONE
TZID:"Europe/Berlin"
BEGIN:DAYLIGHT
TZOFFSETFROM:+0100
TZOFFSETTO:+0200
TZNAME:CEST
DTSTART:20230326T010000
END:DAYLIGHT
BEGIN:STANDARD
TZOFFSETFROM:+0200
TZOFFSETTO:+0100
TZNAME:CET
DTSTART:20231029T010000
END:STANDARD
END:VTIMEZONE
BEGIN:VEVENT
DTSTART;TZID="Europe/Berlin":20230201T190000
DTEND;TZID="Europe/Berlin":20230201T190000
DTSTAMP:20260424T125905
CREATED:20220826T083809Z
LAST-MODIFIED:20220826T083809Z
UID:1184-1675278000-1675278000@esg-erfurt.de
SUMMARY:Ökumenischer Semesterabschlussgottesdienst
DESCRIPTION:Anschl. gemeinsames Abendessen in der ESG \nteilen teilen twittern E-Mail 
URL:https://esg-erfurt.de/veranstaltung/oekumenischer-semesterabschlussgottesdienst-3/
LOCATION:Michaeliskirche\, Michaelisstraße 10\, Erfurt\, 99084
END:VEVENT
END:VCALENDAR