BEGIN:VCALENDAR
VERSION:2.0
PRODID:-//ESG Erfurt - ECPv4.9.7//NONSGML v1.0//EN
CALSCALE:GREGORIAN
METHOD:PUBLISH
X-WR-CALNAME:ESG Erfurt
X-ORIGINAL-URL:https://esg-erfurt.de
X-WR-CALDESC:Veranstaltungen im ESG Erfurt
BEGIN:VTIMEZONE
TZID:"Europe/Berlin"
BEGIN:DAYLIGHT
TZOFFSETFROM:+0100
TZOFFSETTO:+0200
TZNAME:CEST
DTSTART:20230326T010000
END:DAYLIGHT
BEGIN:STANDARD
TZOFFSETFROM:+0200
TZOFFSETTO:+0100
TZNAME:CET
DTSTART:20231029T010000
END:STANDARD
END:VTIMEZONE
BEGIN:VEVENT
DTSTART;TZID="Europe/Berlin":20230425T190000
DTEND;TZID="Europe/Berlin":20230425T223000
DTSTAMP:20260421T225817
CREATED:20230320T075009Z
LAST-MODIFIED:20230320T075009Z
UID:1224-1682449200-1682461800@esg-erfurt.de
SUMMARY:Meister Eckhart und die Predigerkirche. Eine Exkursion.
DESCRIPTION:Mit Pfr. Holger Kaffka\, Erfurt \nWir beginnen gegen 19.00 Uhr in der ESG\, Allerheiligenstrasse 15\, mit einem kleinen Imbiss und gehen dann zur Predigerkirche. \nteilen teilen twittern E-Mail 
URL:https://esg-erfurt.de/veranstaltung/meister-eckhart-und-die-predigerkirche-eine-exkursion/
LOCATION:ESG Erfurt\, Allerheiligenstraße 15\, Erfurt\, 99084
END:VEVENT
END:VCALENDAR