BEGIN:VCALENDAR
VERSION:2.0
PRODID:-//ESG Erfurt - ECPv4.9.7//NONSGML v1.0//EN
CALSCALE:GREGORIAN
METHOD:PUBLISH
X-WR-CALNAME:ESG Erfurt
X-ORIGINAL-URL:https://esg-erfurt.de
X-WR-CALDESC:Veranstaltungen im ESG Erfurt
BEGIN:VTIMEZONE
TZID:"Europe/Berlin"
BEGIN:DAYLIGHT
TZOFFSETFROM:+0100
TZOFFSETTO:+0200
TZNAME:CEST
DTSTART:20230326T010000
END:DAYLIGHT
BEGIN:STANDARD
TZOFFSETFROM:+0200
TZOFFSETTO:+0100
TZNAME:CET
DTSTART:20231029T010000
END:STANDARD
END:VTIMEZONE
BEGIN:VEVENT
DTSTART;TZID="Europe/Berlin":20231110T174500
DTEND;TZID="Europe/Berlin":20231110T174500
DTSTAMP:20260425T201302
CREATED:20230926T073825Z
LAST-MODIFIED:20230926T073825Z
UID:1269-1699638300-1699638300@esg-erfurt.de
SUMMARY:Martini
DESCRIPTION:Ökumenische Feier auf dem Domplatz \nWir treffen uns um 17.45 Uhr vor der Bibliothek am Domplatz \nteilen teilen twittern E-Mail 
URL:https://esg-erfurt.de/veranstaltung/martini/
LOCATION:Domplatz\, Domplatz\, Erfurt
END:VEVENT
END:VCALENDAR