BEGIN:VCALENDAR
VERSION:2.0
PRODID:-//ESG Erfurt - ECPv4.9.7//NONSGML v1.0//EN
CALSCALE:GREGORIAN
METHOD:PUBLISH
X-WR-CALNAME:ESG Erfurt
X-ORIGINAL-URL:https://esg-erfurt.de
X-WR-CALDESC:Veranstaltungen im ESG Erfurt
BEGIN:VTIMEZONE
TZID:"Europe/Berlin"
BEGIN:DAYLIGHT
TZOFFSETFROM:+0100
TZOFFSETTO:+0200
TZNAME:CEST
DTSTART:20260329T010000
END:DAYLIGHT
BEGIN:STANDARD
TZOFFSETFROM:+0200
TZOFFSETTO:+0100
TZNAME:CET
DTSTART:20261025T010000
END:STANDARD
END:VTIMEZONE
BEGIN:VEVENT
DTSTART;VALUE=DATE:20260513
DTEND;VALUE=DATE:20260514
DTSTAMP:20260421T132326
CREATED:20260319T124315Z
LAST-MODIFIED:20260319T124315Z
UID:1595-1778630400-1778716799@esg-erfurt.de
SUMMARY:Mach das Radio an!
DESCRIPTION:Eine Führung hinter den Kulissen | Komplet \nteilen teilen twittern E-Mail 
URL:https://esg-erfurt.de/veranstaltung/mach-das-radio-an/
LOCATION:KSG Erfurt\, Fischersand 23\, Erfurt\, 99084
END:VEVENT
END:VCALENDAR