BEGIN:VCALENDAR
VERSION:2.0
PRODID:-//ESG Erfurt - ECPv4.9.7//NONSGML v1.0//EN
CALSCALE:GREGORIAN
METHOD:PUBLISH
X-WR-CALNAME:ESG Erfurt
X-ORIGINAL-URL:https://esg-erfurt.de
X-WR-CALDESC:Veranstaltungen im ESG Erfurt
BEGIN:VTIMEZONE
TZID:"Europe/Berlin"
BEGIN:DAYLIGHT
TZOFFSETFROM:+0100
TZOFFSETTO:+0200
TZNAME:CEST
DTSTART:20230326T010000
END:DAYLIGHT
BEGIN:STANDARD
TZOFFSETFROM:+0200
TZOFFSETTO:+0100
TZNAME:CET
DTSTART:20231029T010000
END:STANDARD
END:VTIMEZONE
BEGIN:VEVENT
DTSTART;TZID="Europe/Berlin":20230624T180000
DTEND;TZID="Europe/Berlin":20230624T233000
DTSTAMP:20260421T071910
CREATED:20230320T080311Z
LAST-MODIFIED:20230320T080311Z
UID:1235-1687629600-1687649400@esg-erfurt.de
SUMMARY:Lange Nacht der Kirchen in Erfurt.
DESCRIPTION:Sämtliche Details im Newsletter. \nteilen teilen twittern E-Mail 
URL:https://esg-erfurt.de/veranstaltung/lange-nacht-der-kirchen-in-erfurt/
END:VEVENT
END:VCALENDAR