BEGIN:VCALENDAR
VERSION:2.0
PRODID:-//ESG Erfurt - ECPv4.9.7//NONSGML v1.0//EN
CALSCALE:GREGORIAN
METHOD:PUBLISH
X-WR-CALNAME:ESG Erfurt
X-ORIGINAL-URL:https://esg-erfurt.de
X-WR-CALDESC:Veranstaltungen im ESG Erfurt
BEGIN:VTIMEZONE
TZID:"Europe/Berlin"
BEGIN:DAYLIGHT
TZOFFSETFROM:+0100
TZOFFSETTO:+0200
TZNAME:CEST
DTSTART:20260329T010000
END:DAYLIGHT
BEGIN:STANDARD
TZOFFSETFROM:+0200
TZOFFSETTO:+0100
TZNAME:CET
DTSTART:20261025T010000
END:STANDARD
END:VTIMEZONE
BEGIN:VEVENT
DTSTART;VALUE=DATE:20260602
DTEND;VALUE=DATE:20260603
DTSTAMP:20260422T003522
CREATED:20260319T124846Z
LAST-MODIFIED:20260319T124846Z
UID:1602-1780358400-1780444799@esg-erfurt.de
SUMMARY:„Kann ich als Christ*in Soldat*in sein?“
DESCRIPTION:Im ökumenischen Austausch zum Thema Wehrpflicht |\nMit Pfarrerin Linn Pietsch und Lisa Weise.\n18.00 Uhr Abendessen in der ESG\, 19.00 Uhr Beginn\nin der Michaeliskirche \nteilen teilen twittern E-Mail 
URL:https://esg-erfurt.de/veranstaltung/kann-ich-als-christin-soldatin-sein/
LOCATION:Michaeliskirche\, Michaelisstraße 10\, Erfurt\, 99084
END:VEVENT
END:VCALENDAR