BEGIN:VCALENDAR
VERSION:2.0
PRODID:-//ESG Erfurt - ECPv4.9.7//NONSGML v1.0//EN
CALSCALE:GREGORIAN
METHOD:PUBLISH
X-WR-CALNAME:ESG Erfurt
X-ORIGINAL-URL:https://esg-erfurt.de
X-WR-CALDESC:Veranstaltungen im ESG Erfurt
BEGIN:VTIMEZONE
TZID:"Europe/Berlin"
BEGIN:DAYLIGHT
TZOFFSETFROM:+0100
TZOFFSETTO:+0200
TZNAME:CEST
DTSTART:20230326T010000
END:DAYLIGHT
BEGIN:STANDARD
TZOFFSETFROM:+0200
TZOFFSETTO:+0100
TZNAME:CET
DTSTART:20231029T010000
END:STANDARD
END:VTIMEZONE
BEGIN:VEVENT
DTSTART;TZID="Europe/Berlin":20230711T190000
DTEND;TZID="Europe/Berlin":20230711T223000
DTSTAMP:20260425T112334
CREATED:20230320T080524Z
LAST-MODIFIED:20230320T080524Z
UID:1238-1689102000-1689114600@esg-erfurt.de
SUMMARY:Headline. Was uns aktuell bewegt.
DESCRIPTION:Wir beginnen gegen 19.00 Uhr in der ESG\, Allerheiligenstrasse 15\, mit einem gemeinsamen Abendessen. \nteilen teilen twittern E-Mail 
URL:https://esg-erfurt.de/veranstaltung/headline-was-uns-aktuell-bewegt-2/
LOCATION:ESG Erfurt\, Allerheiligenstraße 15\, Erfurt\, 99084
END:VEVENT
END:VCALENDAR