BEGIN:VCALENDAR
VERSION:2.0
PRODID:-//ESG Erfurt - ECPv4.9.7//NONSGML v1.0//EN
CALSCALE:GREGORIAN
METHOD:PUBLISH
X-WR-CALNAME:ESG Erfurt
X-ORIGINAL-URL:https://esg-erfurt.de
X-WR-CALDESC:Veranstaltungen im ESG Erfurt
BEGIN:VTIMEZONE
TZID:"Europe/Berlin"
BEGIN:DAYLIGHT
TZOFFSETFROM:+0100
TZOFFSETTO:+0200
TZNAME:CEST
DTSTART:20230326T010000
END:DAYLIGHT
BEGIN:STANDARD
TZOFFSETFROM:+0200
TZOFFSETTO:+0100
TZNAME:CET
DTSTART:20231029T010000
END:STANDARD
END:VTIMEZONE
BEGIN:VEVENT
DTSTART;TZID="Europe/Berlin":20230530T180000
DTEND;TZID="Europe/Berlin":20230530T223000
DTSTAMP:20260421T154428
CREATED:20230320T075538Z
LAST-MODIFIED:20230320T075538Z
UID:1229-1685469600-1685485800@esg-erfurt.de
SUMMARY:Gemeinsamer Abend der drei christlichen Studierendengemeinde
DESCRIPTION:Über Thema\, Zeit und Ort wird im Newsletter informiert. \nteilen teilen twittern E-Mail 
URL:https://esg-erfurt.de/veranstaltung/gemeinsamer-abend-der-drei-christlichen-studierendengemeinde-3/
END:VEVENT
END:VCALENDAR