BEGIN:VCALENDAR
VERSION:2.0
PRODID:-//ESG Erfurt - ECPv4.9.7//NONSGML v1.0//EN
CALSCALE:GREGORIAN
METHOD:PUBLISH
X-WR-CALNAME:ESG Erfurt
X-ORIGINAL-URL:https://esg-erfurt.de
X-WR-CALDESC:Veranstaltungen im ESG Erfurt
BEGIN:VTIMEZONE
TZID:"Europe/Berlin"
BEGIN:DAYLIGHT
TZOFFSETFROM:+0100
TZOFFSETTO:+0200
TZNAME:CEST
DTSTART:20260329T010000
END:DAYLIGHT
BEGIN:STANDARD
TZOFFSETFROM:+0200
TZOFFSETTO:+0100
TZNAME:CET
DTSTART:20261025T010000
END:STANDARD
END:VTIMEZONE
BEGIN:VEVENT
DTSTART;VALUE=DATE:20260603
DTEND;VALUE=DATE:20260604
DTSTAMP:20260422T021421
CREATED:20260319T124923Z
LAST-MODIFIED:20260319T124923Z
UID:1603-1780444800-1780531199@esg-erfurt.de
SUMMARY:„Es eifre jeder seiner unbestochnen von Vorurteilen freien Liebe nach!“
DESCRIPTION:(G. E. Lessing). Judentum –\nChristentum – Islam und die Ringparabel – was eint\nuns und was trennt? | Mit Prof. Felix Körner | Hl. Messe \nteilen teilen twittern E-Mail 
URL:https://esg-erfurt.de/veranstaltung/es-eifre-jeder-seiner-unbestochnen-von-vorurteilen-freien-liebe-nach/
LOCATION:KSG Erfurt\, Fischersand 23\, Erfurt\, 99084
END:VEVENT
END:VCALENDAR