BEGIN:VCALENDAR
VERSION:2.0
PRODID:-//ESG Erfurt - ECPv4.9.7//NONSGML v1.0//EN
CALSCALE:GREGORIAN
METHOD:PUBLISH
X-WR-CALNAME:ESG Erfurt
X-ORIGINAL-URL:https://esg-erfurt.de
X-WR-CALDESC:Veranstaltungen im ESG Erfurt
BEGIN:VTIMEZONE
TZID:"Europe/Berlin"
BEGIN:DAYLIGHT
TZOFFSETFROM:+0100
TZOFFSETTO:+0200
TZNAME:CEST
DTSTART:20230326T010000
END:DAYLIGHT
BEGIN:STANDARD
TZOFFSETFROM:+0200
TZOFFSETTO:+0100
TZNAME:CET
DTSTART:20231029T010000
END:STANDARD
END:VTIMEZONE
BEGIN:VEVENT
DTSTART;TZID="Europe/Berlin":20230516T190000
DTEND;TZID="Europe/Berlin":20230516T223000
DTSTAMP:20260421T182902
CREATED:20230320T075340Z
LAST-MODIFIED:20230320T075340Z
UID:1227-1684263600-1684276200@esg-erfurt.de
SUMMARY:Do it yourself! Warum nachhaltig nicht mal selber machen?
DESCRIPTION:Wir beginnen gegen 19.00 Uhr in der ESG\, Allerheiligenstrasse 15\, mit einem gemeinsamen Abendessen. Ab etwa 20.15 Uhr folgt das Thema. \nteilen teilen twittern E-Mail 
URL:https://esg-erfurt.de/veranstaltung/do-it-yourself-warum-nachhaltig-nicht-mal-selber-machen/
LOCATION:ESG Erfurt\, Allerheiligenstraße 15\, Erfurt\, 99084
END:VEVENT
END:VCALENDAR