BEGIN:VCALENDAR
VERSION:2.0
PRODID:-//ESG Erfurt - ECPv4.9.7//NONSGML v1.0//EN
CALSCALE:GREGORIAN
METHOD:PUBLISH
X-WR-CALNAME:ESG Erfurt
X-ORIGINAL-URL:https://esg-erfurt.de
X-WR-CALDESC:Veranstaltungen im ESG Erfurt
BEGIN:VTIMEZONE
TZID:"Europe/Berlin"
BEGIN:DAYLIGHT
TZOFFSETFROM:+0100
TZOFFSETTO:+0200
TZNAME:CEST
DTSTART:20210328T010000
END:DAYLIGHT
BEGIN:STANDARD
TZOFFSETFROM:+0200
TZOFFSETTO:+0100
TZNAME:CET
DTSTART:20211031T010000
END:STANDARD
END:VTIMEZONE
BEGIN:VEVENT
DTSTART;TZID="Europe/Berlin":20211110T180000
DTEND;TZID="Europe/Berlin":20211110T230000
DTSTAMP:20260424T142255
CREATED:20210914T074829Z
LAST-MODIFIED:20210916T065344Z
UID:1049-1636567200-1636585200@esg-erfurt.de
SUMMARY:„Die Welt retten - aber wie?“
DESCRIPTION:18. 00 Uhr Martini in Erfurt (Domplatz\, wir treffen uns vor der Bibliothek)\nIm Anschluss: Gemeinsamer Abend der drei christlichen Studierendengemeinden KSG+ESG+SFC\,\nThema „Die Welt retten – aber wie?“ \nEnde offen \nSämtl. Details zeitnah im Newsletter. \nDie Anmeldung und alle veröffentlichten Newsletter findest du hier. \nteilen teilen twittern E-Mail 
URL:https://esg-erfurt.de/veranstaltung/die-welt-retten-aber-wie/
LOCATION:Domplatz\, Domplatz\, Erfurt
END:VEVENT
END:VCALENDAR