BEGIN:VCALENDAR
VERSION:2.0
PRODID:-//ESG Erfurt - ECPv4.9.7//NONSGML v1.0//EN
CALSCALE:GREGORIAN
METHOD:PUBLISH
X-WR-CALNAME:ESG Erfurt
X-ORIGINAL-URL:https://esg-erfurt.de
X-WR-CALDESC:Veranstaltungen im ESG Erfurt
BEGIN:VTIMEZONE
TZID:"Europe/Berlin"
BEGIN:DAYLIGHT
TZOFFSETFROM:+0100
TZOFFSETTO:+0200
TZNAME:CEST
DTSTART:20230326T010000
END:DAYLIGHT
BEGIN:STANDARD
TZOFFSETFROM:+0200
TZOFFSETTO:+0100
TZNAME:CET
DTSTART:20231029T010000
END:STANDARD
END:VTIMEZONE
BEGIN:VEVENT
DTSTART;TZID="Europe/Berlin":20231121T190000
DTEND;TZID="Europe/Berlin":20231121T220000
DTSTAMP:20260426T010631
CREATED:20230926T074147Z
LAST-MODIFIED:20230926T074147Z
UID:1272-1700593200-1700604000@esg-erfurt.de
SUMMARY:Christentum in Indien
DESCRIPTION:mit Aswin Eappen und Renju Kurian\, Priester aus Kerala und Studierenden im MA Religionswissenschaft Erfurt \nWir beginnen gegen 19.00 Uhr in der ESG\, Allerheiligenstrasse 15\, mit einem gemeinsamen Abendessen. \nAb etwa 20.15 Uhr geht’s los. \nteilen teilen twittern E-Mail 
URL:https://esg-erfurt.de/veranstaltung/christentum-in-indien/
LOCATION:ESG Erfurt\, Allerheiligenstraße 15\, Erfurt\, 99084
END:VEVENT
END:VCALENDAR