BEGIN:VCALENDAR
VERSION:2.0
PRODID:-//ESG Erfurt - ECPv4.9.7//NONSGML v1.0//EN
CALSCALE:GREGORIAN
METHOD:PUBLISH
X-WR-CALNAME:ESG Erfurt
X-ORIGINAL-URL:https://esg-erfurt.de
X-WR-CALDESC:Veranstaltungen im ESG Erfurt
BEGIN:VTIMEZONE
TZID:"Europe/Berlin"
BEGIN:DAYLIGHT
TZOFFSETFROM:+0100
TZOFFSETTO:+0200
TZNAME:CEST
DTSTART:20210328T010000
END:DAYLIGHT
BEGIN:STANDARD
TZOFFSETFROM:+0200
TZOFFSETTO:+0100
TZNAME:CET
DTSTART:20211031T010000
END:STANDARD
END:VTIMEZONE
BEGIN:VEVENT
DTSTART;TZID="Europe/Berlin":20211118T193000
DTEND;TZID="Europe/Berlin":20211118T230000
DTSTAMP:20260424T100906
CREATED:20210914T075326Z
LAST-MODIFIED:20210916T065408Z
UID:1052-1637263800-1637276400@esg-erfurt.de
SUMMARY:Bundesweites PubQuiz online
DESCRIPTION:19:30 Uhr Bundesweites PubQuiz online. \nOnlineveranstaltung\, Ende offen\nSämtliche Details zeitnah im Newsletter. \nDie Anmeldung und alle veröffentlichten Newsletter findest du hier. \nteilen teilen twittern E-Mail 
URL:https://esg-erfurt.de/veranstaltung/bundesweites-pubquiz-online/
END:VEVENT
END:VCALENDAR