BEGIN:VCALENDAR
VERSION:2.0
PRODID:-//ESG Erfurt - ECPv4.9.7//NONSGML v1.0//EN
CALSCALE:GREGORIAN
METHOD:PUBLISH
X-WR-CALNAME:ESG Erfurt
X-ORIGINAL-URL:https://esg-erfurt.de
X-WR-CALDESC:Veranstaltungen im ESG Erfurt
BEGIN:VTIMEZONE
TZID:"Europe/Berlin"
BEGIN:DAYLIGHT
TZOFFSETFROM:+0100
TZOFFSETTO:+0200
TZNAME:CEST
DTSTART:20220327T010000
END:DAYLIGHT
BEGIN:STANDARD
TZOFFSETFROM:+0200
TZOFFSETTO:+0100
TZNAME:CET
DTSTART:20221030T010000
END:STANDARD
END:VTIMEZONE
BEGIN:VEVENT
DTSTART;TZID="Europe/Berlin":20221113T100000
DTEND;TZID="Europe/Berlin":20221113T100000
DTSTAMP:20260424T131635
CREATED:20220826T082813Z
LAST-MODIFIED:20220826T082813Z
UID:1172-1668333600-1668333600@esg-erfurt.de
SUMMARY:Akademischer Gottesdienst in der Andreaskirche. Predigt: apl. Prof. Dr. Bettina Hollstein
DESCRIPTION:Geschäftsführerin des Max-Weber-Kolleg für kultur- und sozialwissenschaftliche Studien\, Universität Erfurt \nteilen teilen twittern E-Mail 
URL:https://esg-erfurt.de/veranstaltung/akademischer-gottesdienst-in-der-andreaskirche-predigt-apl-prof-dr-bettina-hollstein/
LOCATION:Andreaskirche\, Andreasstraße 14\, Erfurt\, 99084
END:VEVENT
END:VCALENDAR