BEGIN:VCALENDAR
VERSION:2.0
PRODID:-//ESG Erfurt - ECPv4.9.7//NONSGML v1.0//EN
CALSCALE:GREGORIAN
METHOD:PUBLISH
X-WR-CALNAME:ESG Erfurt
X-ORIGINAL-URL:https://esg-erfurt.de
X-WR-CALDESC:Veranstaltungen im ESG Erfurt
BEGIN:VTIMEZONE
TZID:"Europe/Berlin"
BEGIN:DAYLIGHT
TZOFFSETFROM:+0100
TZOFFSETTO:+0200
TZNAME:CEST
DTSTART:20240331T010000
END:DAYLIGHT
BEGIN:STANDARD
TZOFFSETFROM:+0200
TZOFFSETTO:+0100
TZNAME:CET
DTSTART:20241027T010000
END:STANDARD
END:VTIMEZONE
BEGIN:VEVENT
DTSTART;TZID="Europe/Berlin":20241119T190000
DTEND;TZID="Europe/Berlin":20241119T220000
DTSTAMP:20260426T043338
CREATED:20241014T082951Z
LAST-MODIFIED:20241014T082951Z
UID:1413-1732042800-1732053600@esg-erfurt.de
SUMMARY:Grenzen und Klarheit.
DESCRIPTION:Eine Einführung in die Gewaltfreie Kommunikation. Mit Mirjam Binder (Erfurt) \n
URL:https://esg-erfurt.de/veranstaltung/grenzen-und-klarheit/
LOCATION:ESG Erfurt\, Allerheiligenstraße 15\, Erfurt\, 99084
END:VEVENT
END:VCALENDAR